Workbook

Sheet Criteri Selezione
D4: Innalzamento degli standard qualitativi delle aziende che erogano servizi al turista
D6: Principi | G6: Criteri | K6: Punti | O6: Punteggio massimo | P6: Peso
D8: 1. Qualità della proposta progettuale e delle soluzioni proposte | E8: Qualità della proposta progettuale e delle soluzioni proposte | G8: Margine operativo | O8: =K9+K12+K15+K21+K17+K19 -> 56 | P8: =O8/O53 -> 0.56
G9: Superiore al 10% | K9: 8
G10: Superiore all 6% e minore uguale al 10% | K10: 4
G11: Crescita media del fatturato nei primi 3 anni
G12: Superiore al 15% | K12: 8
G13: Superiore al 5% e minore uguale al 15% | K13: 4
G14: Il business plan include interventi per la creazione o per il miglioramento di sostenibilità ambientale e sociale
G15: Sì | K15: 10
G16: Il business plan include interventi per la creazione o per il miglioramento di esperienze turistiche distintive
G17: Sì | K17: 10
G18: Il business plan include interventi per la creazione o il miglioramento di servizi di infomazione per il turista
G19: Sì | K19: 10
G20: Il business plan contempla l'utilizzo di tecnologie digitali nella costruzione dell'offerta servizio
G21: Sì | K21: 10
D23: 2. Qualificazione ed esperienza del proponenti | E23: Qualificazione ed esperienza dei proponenti | G23: Conoscenza di lingue straniere certificate | O23: =+K25+K28+K31+K44 -> 24 | P23: =+O23/O53 -> 0.24
H24: lingua | I24: livello | K24: Punti
G25: 3 o più | I25: Avanzato | K25: 4
I26: Intermedio | K26: 2
I27: Elementare | K27: 1
I28: Avanzato | K28: 4
I29: Intermedio | K29: 2
I30: Elementare | K30: 1
I31: Avanzato | K31: 4
I32: Intermedio | K32: 2
I33: Elementare | K33: 1
G34: 2 | I34: Avanzato | K34: 4
I35: Intermedio | K35: 2
I36: Elementare | K36: 1
I37: Avanzato | K37: 4
I38: Intermedio | K38: 2
I39: Elementare | K39: 1
G40: 1 | I40: Avanzato | K40: 4
I41: Intermedio | K41: 2
I42: Elementare | K42: 1
G43: Esperienza
G44: Domanda di sostegno presentata da soggetti con oltre 10 anni di esperienza nel settore di intervento | K44: 12
G45: Domanda di sostegno presentata da soggetti con oltre 5 anni di esperienza nel settore di intervento | K45: 8
G46: Domanda di sostegno presentata da soggetti con più di 2 anni di esperienza e meno di 5 nel settore di intervento | K46: 5
...

Sheet Sintesi
C3: Innalzamento degli standard qualitativi delle aziende che erogano servizi al turista
G5: Punteggi per criterio
D7: Participante | G7: 1. Qualità della proposta progettuale e delle soluzioni proposte | H7: 2. Qualificazione ed esperienza del proponenti | I7: 3. Partecipazione ad una rete | K7: Totale | M7: Punti da classificare
D8: Nome | E8: Punteggi max per criterio | G8: 56 | H8: 24 | I8: 20 | K8: =G8+H8+I8 -> 100 | M8: 40
C10: 1 | D10: XXX | K10: =SUM(G10:I10) -> 0 | M10: =IF(K10>=M8,"Accettato",K10-M8) -> -40

Sheet TABELLA AUTOVALUTAZIONE
C3: TABELLA DI AUTOVALUTAZIONE
C5: Principi | E5: PUNTI
C6: 1
C7: 2
C8: 3
C9: TOTALE | E9: =SUM(E6:E8) -> 0 | H9: Punteggio min | I9: 40

Sheet Investimento
B3: Ripartizione investimento
B5: VOCI DI COSTO | C5: IMPONIBILE
B6: Costruzione, acquisizione, incluso il leasing, o miglioramento di beni immobili.
B7: Acquisto o leasing di nuovi macchinari e attrezzature fino a copertura del valore di mercato del bene.
B8: Spese generali collegate alle spese non superiore al 10% per progetti che prevedono anche lavori strutturali (es. lavori di natura edile) e non superiore al 5% per gli altri progetti.
B9: Investimenti immateriali: acquisizione o sviluppo di programmi informatici e acquisizione di brevetti, licenze, diritti d'autore, marchi commerciali
B10: Totale | C10: =SUM(C6:C9) -> 0

Sheet Indice
B2: FP- Piano finanziario
C3: GAL BMG
B4: Input | D4: Output
B5: Budget anno 1 | D5: Flusso di cassa
B6: Budget a tre anni | D6: Conto Economico

Sheet Budget anno 1
F2: Bassa stagione | J2: Alta stagione | N2: Media Stagione
B3: Ricavi | C3: Ipotesi | E3: Totale | F3: M1 | G3: M2 | H3: M3 | I3: M4 | J3: M5 | K3: M6 | L3: M7 | M3: M8 | N3: M9 | O3: M10 | P3: M11 | Q3: M12
B5: # servizi giornalieri erogati | F5: =C5 -> 0 | G5: =F5 -> 0 | H5: =G5 -> 0 | I5: =H5 -> 0 | J5: =I5 -> 0 | K5: =J5 -> 0 | L5: =K5 -> 0 | M5: =L5 -> 0 | N5: =M5 -> 0 | ... Q5: =P5 -> 0
B7: # giorni lavorativi | C7: 30 | F7: =$C$7 -> 30 | G7: =$C$7 -> 30 | H7: =$C$7 -> 30 | I7: =$C$7 -> 30 | J7: =$C$7 -> 30 | K7: =$C$7 -> 30 | L7: =$C$7 -> 30 | M7: =$C$7 -> 30 | ... Q7: =$C$7 -> 30
B9: % saturazione servizi bassa stagione | C9: 0.4 | F9: =C9 -> 0.4 | G9: =F9 -> 0.4 | H9: =G9 -> 0.4 | I9: =H9 -> 0.4
B10: % saturazione servizi alta stagione | C10: 0.8 | J10: =$C$10 -> 0.8 | K10: =$C$10 -> 0.8 | L10: =$C$10 -> 0.8 | M10: =$C$10 -> 0.8
B11: % saturazione servizi media stagione | C11: 0.65 | N11: =$C$11 -> 0.65 | O11: =$C$11 -> 0.65 | P11: =$C$11 -> 0.65 | Q11: =$C$11 -> 0.65
B13: Prezzo medio servizio bassa | C13: 25 | F13: =$C$13 -> 25 | G13: =$C$13 -> 25 | H13: =$C$13 -> 25 | I13: =$C$13 -> 25
B14: Prezzo medio servizio alta | C14: 35 | J14: =$C$14 -> 35 | K14: =$C$14 -> 35 | L14: =$C$14 -> 35 | M14: =$C$14 -> 35
B15: Prezzo medio servizio media | C15: 30 | N15: =$C$15 -> 30 | O15: =$C$15 -> 30 | P15: =$C$15 -> 30 | Q15: =$C$15 -> 30
B17: Totale ricavi | E17: =SUM(F17:Q17) -> 0 | F17: =(F5*F7*F9*F13)+(F5*F7*F10*F14)+(F5*F7*F11*F15) -> 0 | G17: =(G5*G7*G9*G13)+(G5*G7*G10*G14)+(G5*G7*G11*G15) -> 0 | H17: =(H5*H7*H9*H13)+(H5*H7*H10*H14)+(H5*H7*H11*H15) -> 0 | I17: =(I5*I7*I9*I13)+(I5*I7*I10*I14)+(I5*I7*I11*I15) -> 0 | J17: =(J5*J7*J9*J13)+(J5*J7*J10*J14)+(J5*J7*J11*J15) -> 0 | K17: =(K5*K7*K9*K13)+(K5*K7*K10*K14)+(K5*K7*K11*K15) -> 0 | L17: =(L5*L7*L9*L13)+(L5*L7*L10*L14)+(L5*L7*L11*L15) -> 0 | M17: =(M5*M7*M9*M13)+(M5*M7*M10*M14)+(M5*M7*M11*M15) -> 0 | ... Q17: =(Q5*Q7*Q9*Q13)+(Q5*Q7*Q10*Q14)+(Q5*Q7*Q11*Q15) -> 0
B19: Costi diretti | F19: M1 | G19: M2 | H19: M3 | I19: M4 | J19: M5 | K19: M6 | L19: M7 | M19: M8 | N19: M9 | O19: M10 | P19: M11 | Q19: M12
B21: Costi del servizio | C21: 0.25 | E21: =SUM(F21:Q21) -> 0 | F21: =F17*C$21 -> 0 | G21: =G17*$C$21 -> 0 | H21: =H17*$C$21 -> 0 | I21: =I17*$C$21 -> 0 | J21: =J17*$C$21 -> 0 | K21: =K17*$C$21 -> 0 | L21: =L17*$C$21 -> 0 | M21: =M17*$C$21 -> 0 | N21: =N17*$C$21 -> 0 | ... Q21: =Q17*$C$21 -> 0
B22: % da OTA (booking, trivago, etc) | C22: 0.05 | E22: =SUM(F22:Q22) -> 0 | F22: =F17*$C$22 -> 0 | G22: =G17*$C$22 -> 0 | H22: =H17*$C$22 -> 0 | I22: =I17*$C$22 -> 0 | J22: =J17*$C$22 -> 0 | K22: =K17*$C$22 -> 0 | L22: =L17*$C$22 -> 0 | M22: =M17*$C$22 -> 0 | ... Q22: =Q17*$C$22 -> 0
B24: Totale | E24: =SUM(E21:E23) -> 0 | F24: =SUM(F21:F23) -> 0 | G24: =SUM(G21:G23) -> 0 | H24: =SUM(H21:H23) -> 0 | I24: =SUM(I21:I23) -> 0 | J24: =SUM(J21:J23) -> 0 | K24: =SUM(K21:K23) -> 0 | L24: =SUM(L21:L23) -> 0 | ... Q24: =SUM(Q21:Q23) -> 0
B26: Promozione | F26: M1 | G26: M2 | H26: M3 | I26: M4 | J26: M5 | K26: M6 | L26: M7 | M26: M8 | N26: M9 | O26: M10 | P26: M11 | Q26: M12
B27: Promozione online | E27: =SUM(F27:Q27) -> 0 | G27: =F27 -> 0 | H27: =G27 -> 0 | I27: =H27 -> 0 | J27: =I27 -> 0 | K27: =J27 -> 0 | L27: =K27 -> 0 | M27: =L27 -> 0 | N27: =M27 -> 0 | ... Q27: =P27 -> 0
B28: Promozione offline | E28: =SUM(F28:Q28) -> 0
B30: Totale | E30: =SUM(E27:E29) -> 0 | F30: =SUM(F27:F29) -> 0 | G30: =SUM(G27:G29) -> 0 | H30: =SUM(H27:H29) -> 0 | I30: =SUM(I27:I29) -> 0 | J30: =SUM(J27:J29) -> 0 | K30: =SUM(K27:K29) -> 0 | L30: =SUM(L27:L29) -> 0 | ... Q30: =SUM(Q27:Q29) -> 0
B32: Amministrazione generale | F32: M1 | G32: M2 | H32: M3 | I32: M4 | J32: M5 | K32: M6 | L32: M7 | M32: M8 | N32: M9 | O32: M10 | P32: M11 | Q32: M12
B33: Locale | E33: =SUM(F33:Q33) -> 0 | G33: =F33 -> 0 | H33: =G33 -> 0 | I33: =H33 -> 0 | J33: =I33 -> 0 | K33: =J33 -> 0 | L33: =K33 -> 0 | M33: =L33 -> 0 | N33: =M33 -> 0 | ... Q33: =P33 -> 0
B34: Altre spese | C34: 0.02 | E34: =SUM(F34:Q34) -> 0 | F34: ='Budget anno 1'!F17*'Budget anno 1'!C34 -> 0 | G34: ='Budget anno 1'!G17*'Budget anno 1'!$C$34 -> 0 | H34: ='Budget anno 1'!H17*'Budget anno 1'!$C$34 -> 0 | I34: ='Budget anno 1'!I17*'Budget anno 1'!$C$34 -> 0 | J34: ='Budget anno 1'!J17*'Budget anno 1'!$C$34 -> 0 | K34: ='Budget anno 1'!K17*'Budget anno 1'!$C$34 -> 0 | L34: ='Budget anno 1'!L17*'Budget anno 1'!$C$34 -> 0 | M34: ='Budget anno 1'!M17*'Budget anno 1'!$C$34 -> 0 | N34: ='Budget anno 1'!N17*'Budget anno 1'!$C$34 -> 0 | ... Q34: ='Budget anno 1'!Q17*'Budget anno 1'!$C$34 -> 0
B35: Consulenze legali e amm.ve | E35: =SUM(F35:Q35) -> 0
B37: Totale | E37: =SUM(E33:E35) -> 0 | F37: =SUM(F33:F35) -> 0 | G37: =SUM(G33:G35) -> 0 | H37: =SUM(H33:H35) -> 0 | I37: =SUM(I33:I35) -> 0 | J37: =SUM(J33:J35) -> 0 | K37: =SUM(K33:K35) -> 0 | L37: =SUM(L33:L35) -> 0 | ... Q37: =SUM(Q33:Q35) -> 0
B39: Salari | C39: Numero dipendenti | D39: Stipendio mensile | F39: M1 | G39: M2 | H39: M3 | I39: M4 | J39: M5 | K39: M6 | L39: M7 | M39: M8 | N39: M9 | O39: M10 | P39: M11 | Q39: M12
B40: Figura 1 | C40: 1 | E40: =SUM(F40:Q40) -> 0 | F40: =C40*D40 -> 0 | G40: =F40 -> 0 | H40: =G40 -> 0 | I40: =H40 -> 0 | J40: =I40 -> 0 | K40: =J40 -> 0 | L40: =K40 -> 0 | M40: =L40 -> 0 | N40: =M40 -> 0 | ... Q40: =P40 -> 0
B41: Figura 2 | C41: 1 | E41: =SUM(F41:Q41) -> 0 | F41: =C41*D41 -> 0 | G41: =F41 -> 0 | H41: =G41 -> 0 | I41: =H41 -> 0 | J41: =I41 -> 0 | K41: =J41 -> 0 | L41: =K41 -> 0 | M41: =L41 -> 0 | N41: =M41 -> 0 | ... Q41: =P41 -> 0
B42: Figura 3 | C42: 1 | E42: =SUM(F42:Q42) -> 0 | F42: =C42*D42 -> 0 | G42: =F42 -> 0 | H42: =G42 -> 0 | I42: =H42 -> 0 | J42: =I42 -> 0 | K42: =J42 -> 0 | L42: =K42 -> 0 | M42: =L42 -> 0 | N42: =M42 -> 0 | ... Q42: =P42 -> 0
B44: Totale | E44: =SUM(F44:Q44) -> 0 | F44: =SUM(F40:F42) -> 0 | G44: =SUM(G40:G42) -> 0 | H44: =SUM(H40:H42) -> 0 | I44: =SUM(I40:I42) -> 0 | J44: =SUM(J40:J42) -> 0 | K44: =SUM(K40:K42) -> 0 | L44: =SUM(L40:L42) -> 0 | M44: =SUM(M40:M42) -> 0 | ... Q44: =SUM(Q40:Q42) -> 0

Sheet Budget a tre anni
B2: Ricavi | D2: 2019 | E2: =D2+1 -> 2020 | F2: =E2+1 -> 2021
B4: ='Budget anno 1'!B5 -> # servizi giornalieri erogati | D4: ='Budget anno 1'!C5 -> 0
B6: ='Budget anno 1'!B7 -> # giorni lavorativi | D6: =SUM('Budget anno 1'!F7:Q7) -> 360
B8: % saturazione | D8: =AVERAGE('Budget anno 1'!F9:Q11) -> 0.61666667
B10: costo medio servizio | D10: =AVERAGE('Budget anno 1'!F13:Q15) -> 30
B12: Totale | D12: ='Budget anno 1'!E17 -> 0 | E12: =E4*E6*E8*E10 -> 0 | F12: =F4*F6*F8*F10 -> 0
B14: Costi
B16: Costi diretti | D16: =SUM(D18:D20) -> 0 | E16: =SUM(E18:E20) -> 0 | F16: =SUM(F18:F20) -> 0
B18: ='Budget anno 1'!B21 -> Costi del servizio | C18: ='Budget anno 1'!C21 -> 0.25 | D18: =D$12*$C$18 -> 0 | E18: =E$12*$C$18 -> 0 | F18: =F$12*$C$18 -> 0
B19: ='Budget anno 1'!B22 -> % da OTA (booking, trivago, etc) | C19: ='Budget anno 1'!C22 -> 0.05 | D19: =D$12*$C$19 -> 0 | E19: =E$12*$C$19 -> 0 | F19: =F$12*$C$19 -> 0
B21: Promozione | D21: =SUM(D22:D23) -> 0 | E21: =SUM(E22:E23) -> 0 | F21: =SUM(F22:F23) -> 0
B22: ='Budget anno 1'!B27 -> Promozione online | D22: ='Budget anno 1'!E27 -> 0
B23: ='Budget anno 1'!B28 -> Promozione offline | D23: ='Budget anno 1'!E28 -> 0
B25: Amministrazione generale | D25: =SUM(D26:D28) -> 0 | E25: =SUM(E26:E28) -> #DIV/0! | F25: =SUM(F26:F28) -> #DIV/0!
B26: ='Budget anno 1'!B33 -> Locale | D26: ='Budget anno 1'!E33 -> 0
B27: ='Budget anno 1'!B34 -> Altre spese | C27: =D27/D12 -> #DIV/0! | D27: ='Budget anno 1'!E34 -> 0 | E27: =E12*$C$27 -> #DIV/0! | F27: =F12*$C$27 -> #DIV/0!
B28: ='Budget anno 1'!B35 -> Consulenze legali e amm.ve | D28: ='Budget anno 1'!E35 -> 0
B30: Salari | D30: =SUM(D31:D33) -> 0 | E30: =SUM(E31:E33) -> 0 | F30: =SUM(F31:F33) -> 0
B31: ='Budget anno 1'!B40 -> Figura 1 | D31: ='Budget anno 1'!E40 -> 0
B32: ='Budget anno 1'!B41 -> Figura 2 | D32: ='Budget anno 1'!E41 -> 0
B33: ='Budget anno 1'!B42 -> Figura 3 | D33: ='Budget anno 1'!E42 -> 0
B35: Totale costi | D35: =+D21+D25+D30+D16 -> 0 | E35: =+E21+E25+E30+E16 -> #DIV/0! | F35: =+F21+F25+F30+F16 -> #DIV/0!

Sheet Flusso di cassa
B2: Flusso di cassa 2019 | C2: Totale | D2: M1 | E2: M2 | F2: M3 | G2: M4 | H2: M5 | I2: M6 | J2: M7 | K2: M8 | L2: M9 | M2: M10 | N2: M11 | O2: M12
B4: Ricavi | C4: =C5+C6 -> 0 | D4: =D5+D6 -> 0 | E4: =E5+E6 -> 0 | F4: =F5+F6 -> 0 | G4: =G5+G6 -> 0 | H4: =H5+H6 -> 0 | I4: =I5+I6 -> 0 | J4: =J5+J6 -> 0 | ... O4: =O5+O6 -> 0
B5: Ricavi netti | C5: ='Budget anno 1'!E17 -> 0 | D5: ='Budget anno 1'!F17 -> 0 | E5: ='Budget anno 1'!G17 -> 0 | F5: ='Budget anno 1'!H17 -> 0 | G5: ='Budget anno 1'!I17 -> 0 | H5: ='Budget anno 1'!J17 -> 0 | I5: ='Budget anno 1'!K17 -> 0 | J5: ='Budget anno 1'!L17 -> 0 | ... O5: ='Budget anno 1'!Q17 -> 0
B6: Contributi | C6: =SUM(D6:O6) -> 0
B8: Costi | C8: =SUM(C9:C12) -> 0 | D8: =SUM(D9:D12) -> 0 | E8: =SUM(E9:E12) -> 0 | F8: =SUM(F9:F12) -> 0 | G8: =SUM(G9:G12) -> 0 | H8: =SUM(H9:H12) -> 0 | I8: =SUM(I9:I12) -> 0 | J8: =SUM(J9:J12) -> 0 | ... O8: =SUM(O9:O12) -> 0
B9: Costi diretti | C9: ='Budget anno 1'!E24 -> 0 | D9: ='Budget anno 1'!F24 -> 0 | E9: ='Budget anno 1'!G24 -> 0 | F9: ='Budget anno 1'!H24 -> 0 | G9: ='Budget anno 1'!I24 -> 0 | H9: ='Budget anno 1'!J24 -> 0 | I9: ='Budget anno 1'!K24 -> 0 | J9: ='Budget anno 1'!L24 -> 0 | ... O9: ='Budget anno 1'!Q24 -> 0
B10: Promozione | C10: =SUM(D10:O10) -> 0 | D10: ='Budget anno 1'!F30 -> 0 | E10: ='Budget anno 1'!G30 -> 0 | F10: ='Budget anno 1'!H30 -> 0 | G10: ='Budget anno 1'!I30 -> 0 | H10: ='Budget anno 1'!J30 -> 0 | I10: ='Budget anno 1'!K30 -> 0 | J10: ='Budget anno 1'!L30 -> 0 | K10: ='Budget anno 1'!M30 -> 0 | ... O10: ='Budget anno 1'!Q30 -> 0
B11: Amministrazione generale | C11: =SUM(D11:O11) -> 0 | D11: ='Budget anno 1'!F37 -> 0 | E11: ='Budget anno 1'!G37 -> 0 | F11: ='Budget anno 1'!H37 -> 0 | G11: ='Budget anno 1'!I37 -> 0 | H11: ='Budget anno 1'!J37 -> 0 | I11: ='Budget anno 1'!K37 -> 0 | J11: ='Budget anno 1'!L37 -> 0 | K11: ='Budget anno 1'!M37 -> 0 | ... O11: ='Budget anno 1'!Q37 -> 0
B12: Salari | C12: =SUM(D12:O12) -> 0 | D12: ='Budget anno 1'!F44 -> 0 | E12: ='Budget anno 1'!G44 -> 0 | F12: ='Budget anno 1'!H44 -> 0 | G12: ='Budget anno 1'!I44 -> 0 | H12: ='Budget anno 1'!J44 -> 0 | I12: ='Budget anno 1'!K44 -> 0 | J12: ='Budget anno 1'!L44 -> 0 | K12: ='Budget anno 1'!M44 -> 0 | ... O12: ='Budget anno 1'!Q44 -> 0
B14: Burn rate | C14: =SUM(D14:O14) -> 0 | D14: =-SUM(D10:D12) -> 0 | E14: =-SUM(E10:E12) -> 0 | F14: =-SUM(F10:F12) -> 0 | G14: =-SUM(G10:G12) -> 0 | H14: =-SUM(H10:H12) -> 0 | I14: =-SUM(I10:I12) -> 0 | J14: =-SUM(J10:J12) -> 0 | K14: =-SUM(K10:K12) -> 0 | ... O14: =-SUM(O10:O12) -> 0
B15: Cash flow | D15: =D4+(D14) -> 0 | E15: =E4+(E14) -> 0 | F15: =F4+(F14) -> 0 | G15: =G4+(G14) -> 0 | H15: =H4+(H14) -> 0 | I15: =I4+(I14) -> 0 | J15: =J4+(J14) -> 0 | K15: =K4+(K14) -> 0 | ... O15: =O4+(O14) -> 0
B16: Cumulative Cash Flow | D16: =D15 -> 0 | E16: =D16+E15 -> 0 | F16: =E16+F15 -> 0 | G16: =F16+G15 -> 0 | H16: =G16+H15 -> 0 | I16: =H16+I15 -> 0 | J16: =I16+J15 -> 0 | K16: =J16+K15 -> 0 | L16: =K16+L15 -> 0 | ... O16: =N16+O15 -> 0
B19: Salaries
B20: ='Budget anno 1'!B40 -> Figura 1 | C20: ='Budget anno 1'!E40 -> 0
B21: ='Budget anno 1'!B41 -> Figura 2 | C21: ='Budget anno 1'!E41 -> 0
B22: ='Budget anno 1'!B42 -> Figura 3 | C22: ='Budget anno 1'!E42 -> 0

Sheet Conto Economico
B2: CONTO ECONOMICO | C2: 2019 | D2: =C2+1 -> 2020 | E2: =D2+1 -> 2021
B4: (A) Valore della produzione | C4: =C5+C6 -> 0 | D4: =D5+D6 -> 0 | E4: =E5+E6 -> 0
B5: Ricavi delle vendite e delle prestazioni | C5: ='Budget anno 1'!E17 -> 0
B6: Altri ricavi e proventi
B8: (B) Costi della produzione | C8: =SUM(C9:C16) -> 0 | D8: =SUM(D9:D16) -> #DIV/0! | E8: =SUM(E9:E16) -> #DIV/0!
B9: Materie prime e merci
B10: Servizi | C10: ='Budget a tre anni'!D16+'Budget a tre anni'!D28+'Budget a tre anni'!D21 -> 0 | D10: ='Budget a tre anni'!E16+'Budget a tre anni'!E28+'Budget a tre anni'!E21 -> 0 | E10: ='Budget a tre anni'!F16+'Budget a tre anni'!F28+'Budget a tre anni'!F21 -> 0
B11: Accantonamenti per rischi
B12: Godimento di beni di terzi | C12: ='Budget anno 1'!E33 -> 0 | D12: ='Budget a tre anni'!E26 -> 0 | E12: ='Budget a tre anni'!F26 -> 0
B13: Altri accantonamenti (TFR) | C13: =C14/13.5 -> 0 | D13: =C13+((C14/13.5)*(1+0.000075)) -> 0 | E13: =D13+((D14/13.5)*(1+0.000075)) -> 0
B14: Personale | C14: ='Budget anno 1'!E44 -> 0 | D14: ='Budget a tre anni'!E30 -> 0 | E14: ='Budget a tre anni'!F30 -> 0
B15: Oneri di gestione | C15: =+'Budget anno 1'!E34 -> 0 | D15: =+'Budget a tre anni'!E27 -> #DIV/0! | E15: =+'Budget a tre anni'!F27 -> #DIV/0!
B16: Ammortamenti e svalutazioni
B18: A - B (MOL) | C18: =C4-C8 -> 0 | D18: =D4-D8 -> #DIV/0! | E18: =E4-E8 -> #DIV/0!
B20: (C) Proventi e oneri finanziari | C20: =SUM(C21:C23) -> 0 | D20: =SUM(D21:D23) -> 0 | E20: =SUM(E21:E23) -> 0
B21: Proventi da partecipazioni | C21: 0 | D21: 0 | E21: 0
B22: Altri proventi finanziari | C22: 0 | D22: 0 | E22: 0
B23: Interessi e altri oneri finanziari | C23: 0 | D23: 0 | E23: 0
B25: (D) Rettifica attività finanziarie | C25: =SUM(C26:C28) -> 0 | D25: =SUM(D26:D28) -> 0 | E25: =SUM(E26:E28) -> 0
B26: Rivalutazioni | C26: 0 | D26: 0 | E26: 0
B27: Svalutazioni | C27: 0 | D27: 0 | E27: 0
B28: Proventi e oneri straordinari | C28: 0 | D28: 0 | E28: 0
B30: Risultato ante imposte | C30: =C18-C20-C25 -> 0 | D30: =D18-D20-D25 -> #DIV/0! | E30: =E18-E20-E25 -> #DIV/0! | G30: Tasse
B31: Imposte sul reddito d´esercizio | C31: =C30*$G$31 -> 0 | D31: =D30*$G$31 -> #DIV/0! | E31: =E30*$G$31 -> #DIV/0! | G31: 0.2
B32: Imposte
B34: Utili o perdite esercizio | C34: =IF(C30>0, C30-C31-C32, C30+C31+C32) -> 0 | D34: =IF(D30>0, D30-D31-D32, D30+D31+D32) -> #DIV/0! | E34: =IF(E30>0, E30-E31-E32, E30+E31+E32) -> #DIV/0!
